BEGIN:VCALENDAR
VERSION:2.0
PRODID:-//MūSE PC - ECPv6.15.20//NONSGML v1.0//EN
CALSCALE:GREGORIAN
METHOD:PUBLISH
X-WR-CALNAME:MūSE PC
X-ORIGINAL-URL:https://musepc.com
X-WR-CALDESC:Events for MūSE PC
REFRESH-INTERVAL;VALUE=DURATION:PT1H
X-Robots-Tag:noindex
X-PUBLISHED-TTL:PT1H
BEGIN:VTIMEZONE
TZID:America/Denver
BEGIN:DAYLIGHT
TZOFFSETFROM:-0700
TZOFFSETTO:-0600
TZNAME:MDT
DTSTART:20240310T090000
END:DAYLIGHT
BEGIN:STANDARD
TZOFFSETFROM:-0600
TZOFFSETTO:-0700
TZNAME:MST
DTSTART:20241103T080000
END:STANDARD
BEGIN:DAYLIGHT
TZOFFSETFROM:-0700
TZOFFSETTO:-0600
TZNAME:MDT
DTSTART:20250309T090000
END:DAYLIGHT
BEGIN:STANDARD
TZOFFSETFROM:-0600
TZOFFSETTO:-0700
TZNAME:MST
DTSTART:20251102T080000
END:STANDARD
BEGIN:DAYLIGHT
TZOFFSETFROM:-0700
TZOFFSETTO:-0600
TZNAME:MDT
DTSTART:20260308T090000
END:DAYLIGHT
BEGIN:STANDARD
TZOFFSETFROM:-0600
TZOFFSETTO:-0700
TZNAME:MST
DTSTART:20261101T080000
END:STANDARD
END:VTIMEZONE
BEGIN:VEVENT
DTSTART;TZID=America/Denver:20250710T100000
DTEND;TZID=America/Denver:20250710T113000
DTSTAMP:20260423T021617
CREATED:20250424T203552Z
LAST-MODIFIED:20250424T203552Z
UID:583-1752141600-1752147000@musepc.com
SUMMARY:Harmony & Hashbrowns
DESCRIPTION:The year is underway! The brunch is a great mix of people and the feedback is that it is a fun hang for getting to know our fellow creatives. \n\n\nGet ready to tune up your appetite and your connections! We’re excited to invite you to our next Professional Musician & Film Maker Brunch—a monthly gathering to build camaraderie\, inspire collaboration\, and strengthen Utah’s incredible music and film community. \n\n\nHere are the details: \n\nWhen: Thursday\, July 10th\, 2025\nTime: 10:00 AM\nWhere: Dee’s Restaurant (2100 South & 700 East\, Salt Lake City)\n\n\n\nThis isn’t your average brunch. It’s a chance to: \n\nMeet fellow musicians and film makers who are as passionate as you are.\nDiscuss how we can help Utah’s music and film community hit the high notes—like growing our GRAMMY presence and Utah Film Makers.\nGet a preview of what’s to come—future brunches will feature more guest speakers\, gear showcases\, and more ways to expand your network.\n\n\n\nWhether you’re a seasoned pro or just starting to make waves\, this is your space to connect\, collaborate\, and share a few laughs over some seriously good pancakes. \n\n\nPlease RSVP so we can let Dee’s know how many of us to expect. Simply reply to this email. \n\n\nWe can’t wait to see you there! Let’s make this the first of many fantastic mornings for Utah’s music & film scene.
URL:https://musepc.com/event/harmony-hashbrowns-3/
LOCATION:Dee’s\, 2104 S 700 E\, Salt Lake City\, UT\, 84106
CATEGORIES:Brunch
ATTACH;FMTTYPE=image/png:https://musepc.com/wp-content/uploads/2023/11/MUSE-Brunch.png
END:VEVENT
BEGIN:VEVENT
DTSTART;TZID=America/Denver:20250730T180000
DTEND;TZID=America/Denver:20250730T193000
DTSTAMP:20260423T021617
CREATED:20250721T032204Z
LAST-MODIFIED:20250721T032204Z
UID:608-1753898400-1753903800@musepc.com
SUMMARY:Wednesday Night Music Club 2025-07-30
DESCRIPTION:Why should you be a part of this Song Circle? \n\nA Tapestry of Creativity: The Song Circle isn’t just an event; it’s a weaving together of melodies\, lyrics\, and emotions. Join fellow songwriters in a space where your creative expression takes center stage. Share your latest piece\, or simply bask in the collective energy of artistic minds coming together.\nConstructive Feedback: Receive valuable insights on your work from a supportive community. The Song Circle is a haven for constructive feedback\, where every note and lyric is appreciated and considered. It’s an opportunity to refine and elevate your craft.\nBuilding Musical Bonds: Connect with fellow songwriters who share your passion and understand the journey you’re on. These connections often lead to collaborations\, partnerships\, and lifelong friendships. The music we create is a shared experience\, and the Song Circle is where those bonds are forged.\nInspiration Unleashed: Get ready to be inspired. Whether you’re looking for fresh ideas\, tackling writer’s block\, or seeking new perspectives\, the Song Circle is a wellspring of inspiration. Let the music of your peers fuel your own creative fire.\nSupportive Community: In the Song Circle\, everyone’s voice is heard and respected. It’s a safe and nurturing environment where you can be vulnerable with your art\, knowing that you’re surrounded by individuals who appreciate the beauty of the creative process.\n\nWe believe your presence will add a unique melody to our collective harmony. Please RSVP by email. Feel free to bring your latest composition\, an open heart\, and a willingness to contribute to the vibrant tapestry of our songwriter community. \nDon’t miss out on this opportunity to immerse yourself in the magic of music creation. We look forward to seeing you at the Song Circle and celebrating the beauty of our shared musical journey.
URL:https://musepc.com/event/wednesday-night-music-club-2025-07-30/
LOCATION:Park City Library\, 1255 Park Ave\, Park City\, 84060\, United States
CATEGORIES:Song Circle
ATTACH;FMTTYPE=image/png:https://musepc.com/wp-content/uploads/2023/11/MuSE-PC-Song-Circle.png
END:VEVENT
END:VCALENDAR